BEGIN:VCALENDAR
VERSION:2.0
PRODID:-//SportPlan//Event Calendar//EN
CALSCALE:GREGORIAN
BEGIN:VEVENT
UID:fbec7768-45fd-439c-b13b-acd4b16c5980@sportplan.local
DTSTAMP:20260420T201801Z
DTSTART;VALUE=DATE:20260516
DTEND;VALUE=DATE:20260517
SUMMARY:Trail des Grottes - Han Sur Lesse
DESCRIPTION:Trail des Grottes - Han Sur Lesse aura lieu le 16 mai 2026 à Rochefort\, dans un cadre parfait pour profiter de l'événement et de l'ambiance de course. Le parcours laisse attendre une vraie expérience nature\, avec du relief et un terrain qui donneront du caractère à l'épreuve.
LOCATION:Rochefort
URL:https://sportplan.vercel.app/en/events/trail-des-grottes-han-sur-lesse-rochefort-2026-05-16
END:VEVENT
END:VCALENDAR
