BEGIN:VCALENDAR
VERSION:2.0
PRODID:-//SportPlan//Event Calendar//EN
CALSCALE:GREGORIAN
BEGIN:VEVENT
UID:6b723c12-3f5b-4bd4-b96f-43884d63c533@sportplan.local
DTSTAMP:20260420T222722Z
DTSTART;VALUE=DATE:20260928
DTEND;VALUE=DATE:20260929
SUMMARY:Trail dels Fars Nocturna - Mitja Marató
DESCRIPTION:Trail dels Fars Nocturna - Mitja Marató se celebra en Maó\, Menorca\, Baleares el 28 de septiembre de 2026\, ofreciendo a los corredores una ocasión ideal para disfrutar de un ambiente competitivo y bien organizado en ES. La distancia anunciada es de 23 km\, una propuesta atractiva para corredores que buscan un reto claro y una jornada especial. Es una prueba pensada para vivir una jornada deportiva motivadora\, tanto para atletas experimentados como para participantes entusiastas.
LOCATION:Maó\, Menorca\, Baleares
URL:https://sportplan.vercel.app/en/events/trail-dels-fars-nocturna-mitja-marato-mao-2026-09-28-23k
END:VEVENT
END:VCALENDAR
