BEGIN:VCALENDAR
VERSION:2.0
PRODID:-//SportPlan//Event Calendar//EN
CALSCALE:GREGORIAN
BEGIN:VEVENT
UID:d99a353b-f6d4-4361-ba49-4dae18410985@sportplan.local
DTSTAMP:20260420T221748Z
DTSTART;VALUE=DATE:20260509
DTEND;VALUE=DATE:20260510
SUMMARY:Trail de los Picos Ultra
DESCRIPTION:Trail de los Picos Ultra se celebra el 9 mayo 2026 en Covadonga\, Parque Nacional Picos de Europa\, ofreciendo una cita ideal para participantes que buscan una experiencia bien organizada y con ambiente deportivo. El evento propone un recorrido con una distancia aproximada de 42 km\, pensado para disfrutar del entorno\, mantener un buen ritmo y compartir la jornada con otros asistentes.
LOCATION:Covadonga\, Parque Nacional Picos de Europa
URL:https://sportplan.vercel.app/en/events/trail-de-los-picos-ultra-covadonga-2026-05-09
END:VEVENT
END:VCALENDAR
