BEGIN:VCALENDAR
VERSION:2.0
PRODID:-//SportPlan//Event Calendar//EN
CALSCALE:GREGORIAN
BEGIN:VEVENT
UID:9b6bbc34-5145-4727-957f-f8228c543618@sportplan.local
DTSTAMP:20260420T194923Z
DTSTART;VALUE=DATE:20260430
DTEND;VALUE=DATE:20260501
SUMMARY:Trail de la Nuit de Mai
DESCRIPTION:Trail de la Nuit de Mai aura lieu le 30 avril 2026 à Stavelot. C'est un bon choix pour les participants à la recherche d'une expérience sportive bien organisée. L'événement convient aussi bien aux habitués qu'à ceux qui veulent se fixer un nouveau défi cette saison.
LOCATION:Stavelot
URL:https://sportplan.vercel.app/en/events/trail-de-la-nuit-de-mai-stavelot-2026-04-30
END:VEVENT
END:VCALENDAR
