BEGIN:VCALENDAR
VERSION:2.0
PRODID:-//SportPlan//Event Calendar//EN
CALSCALE:GREGORIAN
BEGIN:VEVENT
UID:3b28fcde-ed48-45b0-bd94-027b21ff731b@sportplan.local
DTSTAMP:20260420T230052Z
DTSTART;VALUE=DATE:20260502
DTEND;VALUE=DATE:20260503
SUMMARY:Trail das Fragas do Eume
DESCRIPTION:Trail das Fragas do Eume se celebrará el 2/5/2026 en Pontedeume\, ES\, con un recorrido de 22 km. Es una gran oportunidad para disfrutar del ambiente del evento\, marcarte un objetivo deportivo y vivir una jornada activa en un entorno especial.
LOCATION:Pontedeume
URL:https://sportplan.vercel.app/en/events/trail-das-fragas-do-eume-pontedeume-2026-05-02
END:VEVENT
END:VCALENDAR
