BEGIN:VCALENDAR
VERSION:2.0
PRODID:-//SportPlan//Event Calendar//EN
CALSCALE:GREGORIAN
BEGIN:VEVENT
UID:a968bb58-4315-4b97-ad40-37db4b819f3b@sportplan.local
DTSTAMP:20260420T204654Z
DTSTART;VALUE=DATE:20260620
DTEND;VALUE=DATE:20260621
SUMMARY:Trail Camín Real de la Mesa
DESCRIPTION:Trail Camín Real de la Mesa se celebrará el 20 junio 2026 en Belmonte de Miranda\, Ruta Romana. Es una buena oportunidad para vivir el ambiente del evento y compartir la experiencia con otros participantes y asistentes. La distancia prevista es de 38 km\, ideal para quienes buscan un reto bien definido en esta cita.
LOCATION:Belmonte de Miranda\, Ruta Romana
URL:https://sportplan.vercel.app/en/events/trail-cam-n-real-de-la-mesa-belmonte-de-miranda-2026-06-20
END:VEVENT
END:VCALENDAR
