BEGIN:VCALENDAR
VERSION:2.0
PRODID:-//SportPlan//Event Calendar//EN
CALSCALE:GREGORIAN
BEGIN:VEVENT
UID:f695bf46-aa0e-4452-8a30-78e2497c00b5@sportplan.local
DTSTAMP:20260420T224446Z
DTSTART;VALUE=DATE:20260612
DTEND;VALUE=DATE:20260613
SUMMARY:Trail 80K
DESCRIPTION:Trail 80K aura lieu à Ordino le 12 juin 2026. C'est un rendez-vous idéal pour profiter de l'ambiance de l'événement sur une distance de 79 km et vivre une expérience sportive bien organisée. Une belle option pour les participants qui veulent se dépasser comme pour ceux qui recherchent une journée active dans un cadre agréable.
LOCATION:Ordino
URL:https://sportplan.vercel.app/en/events/trail-80k-ordino-2026-06-12-79k
END:VEVENT
END:VCALENDAR
