BEGIN:VCALENDAR
VERSION:2.0
PRODID:-//SportPlan//Event Calendar//EN
CALSCALE:GREGORIAN
BEGIN:VEVENT
UID:e6972cbb-8da0-4dcf-85fb-64710f8ba68f@sportplan.local
DTSTAMP:20260420T224445Z
DTSTART;VALUE=DATE:20260614
DTEND;VALUE=DATE:20260615
SUMMARY:Trail 10km
DESCRIPTION:
LOCATION:Ordino
URL:https://sportplan.vercel.app/en/events/trail-10km-ordino-2026-06-14-10k
END:VEVENT
END:VCALENDAR
