BEGIN:VCALENDAR
VERSION:2.0
PRODID:-//SportPlan//Event Calendar//EN
CALSCALE:GREGORIAN
BEGIN:VEVENT
UID:458ea8dd-346a-4fd4-8783-81d6152469b1@sportplan.local
DTSTAMP:20260420T211357Z
DTSTART;VALUE=DATE:20261009
DTEND;VALUE=DATE:20261012
SUMMARY:Tour De Tirol
DESCRIPTION:Tour De Tirol findet am 9. Oktober 2026 in Söll statt. Die Veranstaltung ist ideal für alle\, die ein gut organisiertes Sportevent und eine motivierende Atmosphäre suchen. Perfekt\, um Bestzeiten anzugreifen\, eine neue Herausforderung anzunehmen oder die besondere Eventstimmung zu genießen.
LOCATION:Söll
URL:https://sportplan.vercel.app/en/events/tour-de-tirol-soll-2026-10-09
END:VEVENT
END:VCALENDAR
