BEGIN:VCALENDAR
VERSION:2.0
PRODID:-//SportPlan//Event Calendar//EN
CALSCALE:GREGORIAN
BEGIN:VEVENT
UID:c636459e-b90a-4991-8ad7-95880a2e9002@sportplan.local
DTSTAMP:20260420T234629Z
DTSTART;VALUE=DATE:20260705
DTEND;VALUE=DATE:20260706
SUMMARY:Tour de Matra 2026
DESCRIPTION:Tour de Matra 2026 is an amateur road-cycling qualifier in Gyöngyös\, Hungary on 5 July 2026. The official UCI Gran Fondo World Series page describes a mass-participation weekend in the Mátra Mountains with a 161 km granfondo and a 94 km mediofondo centered on Hungary's highest roads.
LOCATION:Gyöngyös
URL:https://sportplan.vercel.app/en/events/tour-de-matra-2026-gyongyos-2026-07-05
END:VEVENT
END:VCALENDAR
