BEGIN:VCALENDAR
VERSION:2.0
PRODID:-//SportPlan//Event Calendar//EN
CALSCALE:GREGORIAN
BEGIN:VEVENT
UID:71ab1a40-486e-4f96-aae2-4760855886b1@sportplan.local
DTSTAMP:20260420T233803Z
DTSTART;VALUE=DATE:20260703
DTEND;VALUE=DATE:20260706
SUMMARY:Tour de Mátra 2026
DESCRIPTION:Tour de Mátra 2026 is a three-day amateur gran fondo festival in Gyöngyös\, Hungary\, with a 19 km time trial\, a 94 km medio fondo\, a 161 km gran fondo\, and a short non-UCI mini fondo. The official event site states it is the first UCI Gran Fondo World Series round in Hungary and explicitly open to amateur riders without a UCI licence.
LOCATION:Gyöngyös
URL:https://sportplan.vercel.app/en/events/tour-de-matra-2026-2026-07-03
END:VEVENT
END:VCALENDAR
