BEGIN:VCALENDAR
VERSION:2.0
PRODID:-//SportPlan//Event Calendar//EN
CALSCALE:GREGORIAN
BEGIN:VEVENT
UID:875eb30d-3571-4dd0-903f-0e0447f38f8d@sportplan.local
DTSTAMP:20260420T210647Z
DTSTART;VALUE=DATE:20270213
DTEND;VALUE=DATE:20270214
SUMMARY:Tough Mudder VIC 2027
DESCRIPTION:Tough Mudder VIC 2027 is an official amateur OCR participation event at Caribbean Gardens in Scoresby\, Victoria on 13 February 2027. The official Tough Mudder Australia event page confirms public registration and multiple obstacle-course participation formats including 15K\, 5K\, Infinity\, and spectator options.
LOCATION:Caribbean Gardens\, Scoresby
URL:https://sportplan.vercel.app/en/events/tough-mudder-vic-2027-scoresby-2027-02-13
END:VEVENT
END:VCALENDAR
