BEGIN:VCALENDAR
VERSION:2.0
PRODID:-//SportPlan//Event Calendar//EN
CALSCALE:GREGORIAN
BEGIN:VEVENT
UID:bcea048b-0cd2-4db9-966a-b4e829c23709@sportplan.local
DTSTAMP:20260420T191529Z
DTSTART;VALUE=DATE:20260627
DTEND;VALUE=DATE:20260628
SUMMARY:Tough Mudder QLD 2026
DESCRIPTION:Tough Mudder QLD 2026 is an official amateur OCR participation event at Sirromet Winery in Mount Cotton\, Queensland on 27 June 2026. The official Tough Mudder Australia event page confirms public registration and multiple obstacle-course participation formats including 15K\, 5K\, Infinity\, and spectator options.
LOCATION:Sirromet Winery\, Mount Cotton
URL:https://sportplan.vercel.app/en/events/tough-mudder-qld-2026-06-27
END:VEVENT
END:VCALENDAR
