BEGIN:VCALENDAR
VERSION:2.0
PRODID:-//SportPlan//Event Calendar//EN
CALSCALE:GREGORIAN
BEGIN:VEVENT
UID:749a9a24-3332-4dae-a8fc-718030b5b002@sportplan.local
DTSTAMP:20260420T191929Z
DTSTART;VALUE=DATE:20260503
DTEND;VALUE=DATE:20260504
SUMMARY:Tomaree Trail Run Festival
DESCRIPTION:Tomaree Trail Run Festival takes place in Australia on May 3\, 2026\, offering participants a great chance to enjoy the atmosphere of race day in this destination. The route distance is to be confirmed. Expect an energizing event environment\, local support on site\, and a course suited to both dedicated runners and motivated newcomers.
LOCATION:Australia
URL:https://sportplan.vercel.app/en/events/tomaree-trail-run-festival-australia-2026-05-03
END:VEVENT
END:VCALENDAR
