BEGIN:VCALENDAR
VERSION:2.0
PRODID:-//SportPlan//Event Calendar//EN
CALSCALE:GREGORIAN
BEGIN:VEVENT
UID:2109518e-0548-413d-841c-f0e7f8f3f0ea@sportplan.local
DTSTAMP:20260420T210127Z
DTSTART;VALUE=DATE:20260905
DTEND;VALUE=DATE:20260906
SUMMARY:Tjejmilen Stockholm 2026
DESCRIPTION:Official Tjejmilen Stockholm page for the 10 km women's race on 5 September 2026. The organizer promotes a large amateur-enterable field on Djurgården and through central Stockholm\, with a course designed to suit a broad range of participants.
LOCATION:Stockholm\, Sweden
URL:https://sportplan.vercel.app/en/events/tjejmilen-2026-09-05
END:VEVENT
END:VCALENDAR
