BEGIN:VCALENDAR
VERSION:2.0
PRODID:-//SportPlan//Event Calendar//EN
CALSCALE:GREGORIAN
BEGIN:VEVENT
UID:2a5e0349-a553-4c96-a10e-6c30aaf92f95@sportplan.local
DTSTAMP:20260420T192013Z
DTSTART;VALUE=DATE:20260502
DTEND;VALUE=DATE:20260503
SUMMARY:Tiree 10k & Half Marathon
DESCRIPTION:
LOCATION:Isle of Tiree
URL:https://sportplan.vercel.app/en/events/tiree-10k-half-marathon-isle-of-tiree-2026-05-02
END:VEVENT
END:VCALENDAR
