BEGIN:VCALENDAR
VERSION:2.0
PRODID:-//SportPlan//Event Calendar//EN
CALSCALE:GREGORIAN
BEGIN:VEVENT
UID:77a7acbd-2a82-4483-b386-afe2644c6510@sportplan.local
DTSTAMP:20260420T222552Z
DTSTART;VALUE=DATE:20261205
DTEND;VALUE=DATE:20261207
SUMMARY:The Sydney Trail Half Marathon Summer Edition
DESCRIPTION:The Sydney Trail Half Marathon Summer Edition is scheduled for December 5\, 2026 at North Parramatta. It is a solid option for people who want to experience the event live and plan their day in advance. Checking access\, timing\, and on-site amenities in advance can make the visit smoother.
LOCATION:North Parramatta
URL:https://sportplan.vercel.app/en/events/the-sydney-trail-half-marathon-summer-edition-north-parramatta-2026-12-05
END:VEVENT
END:VCALENDAR
