BEGIN:VCALENDAR
VERSION:2.0
PRODID:-//SportPlan//Event Calendar//EN
CALSCALE:GREGORIAN
BEGIN:VEVENT
UID:b844b9cf-a5a2-4309-b3f8-5cab63099337@sportplan.local
DTSTAMP:20260420T230007Z
DTSTART;VALUE=DATE:20260905
DTEND;VALUE=DATE:20260906
SUMMARY:The Roc England
DESCRIPTION:
LOCATION:Backbarrow
URL:https://sportplan.vercel.app/en/events/the-roc-england-backbarrow-2026-09-05
END:VEVENT
END:VCALENDAR
