BEGIN:VCALENDAR
VERSION:2.0
PRODID:-//SportPlan//Event Calendar//EN
CALSCALE:GREGORIAN
BEGIN:VEVENT
UID:9f0bb14b-606c-47df-91fe-97c5e1d2250b@sportplan.local
DTSTAMP:20260420T163744Z
DTSTART;VALUE=DATE:20260322
DTEND;VALUE=DATE:20260323
SUMMARY:The Millars Granfondo 2026
DESCRIPTION:The Millars Granfondo 2026 is an amateur road-cycling qualifier in Castellón\, Spain on 22 March 2026. The official UCI Gran Fondo World Series page describes a 158 km granfondo from Castelló de la Plana with 2208 m of climbing over the Coll de la Ibola and Coll de la Lloma in inland Castellón.
LOCATION:Castelló de la Plana
URL:https://sportplan.vercel.app/en/events/the-millars-granfondo-2026-castellon-2026-03-22
END:VEVENT
END:VCALENDAR
