BEGIN:VCALENDAR
VERSION:2.0
PRODID:-//SportPlan//Event Calendar//EN
CALSCALE:GREGORIAN
BEGIN:VEVENT
UID:ac4e81e8-2421-4ee2-b656-168bb73794c9@sportplan.local
DTSTAMP:20260420T175550Z
DTSTART;VALUE=DATE:20260628
DTEND;VALUE=DATE:20260629
SUMMARY:The Heron Half-Marathon
DESCRIPTION:
LOCATION:Yeovilton
URL:https://sportplan.vercel.app/en/events/the-heron-half-marathon-yeovilton-2026-06-28
END:VEVENT
END:VCALENDAR
