BEGIN:VCALENDAR
VERSION:2.0
PRODID:-//SportPlan//Event Calendar//EN
CALSCALE:GREGORIAN
BEGIN:VEVENT
UID:74e45b49-3b6c-4143-a657-76930450b5df@sportplan.local
DTSTAMP:20260420T191928Z
DTSTART;VALUE=DATE:20260823
DTEND;VALUE=DATE:20260824
SUMMARY:The Bloody Long Walk Newcastle 2026
DESCRIPTION:The Bloody Long Walk Newcastle 2026 is an official amateur 35 km walking-hiking participation event in Newcastle\, New South Wales on 23 August 2026. The official event page confirms a 35 km scenic public walk starting at Barton Field and finishing at Foreshore Park\, Newcastle\, with open registration supporting the Mito Foundation.
LOCATION:Foreshore Park\, Newcastle\, New South Wales
URL:https://sportplan.vercel.app/en/events/the-bloody-long-walk-newcastle-2026-2026-08-23
END:VEVENT
END:VCALENDAR
