BEGIN:VCALENDAR
VERSION:2.0
PRODID:-//SportPlan//Event Calendar//EN
CALSCALE:GREGORIAN
BEGIN:VEVENT
UID:edb15413-7768-45ba-9896-d2b9135215fe@sportplan.local
DTSTAMP:20260420T175347Z
DTSTART;VALUE=DATE:20260906
DTEND;VALUE=DATE:20260907
SUMMARY:The Big Half
DESCRIPTION:Official London Marathon Events overview page for The Big Half on Sunday 6 September 2026 in London. The official event page confirms the date\, Tower Bridge start area\, four-hour cut-off\, and a fast road half-marathon route through Tower Hamlets\, Southwark\, Lewisham\, and Greenwich for mass-participation runners.
LOCATION:London\, United Kingdom
URL:https://sportplan.vercel.app/en/events/the-big-half-londres-2026-09-06
END:VEVENT
END:VCALENDAR
