BEGIN:VCALENDAR
VERSION:2.0
PRODID:-//SportPlan//Event Calendar//EN
CALSCALE:GREGORIAN
BEGIN:VEVENT
UID:f1424d10-b1a1-42a5-aedf-3e75f792d614@sportplan.local
DTSTAMP:20260420T180959Z
DTSTART;VALUE=DATE:20260531
DTEND;VALUE=DATE:20260601
SUMMARY:Tenerife Bluetrail - 110K
DESCRIPTION:Tenerife Bluetrail - 110K es una prueba que se celebrará el 2026-05-31 en Candelaria\, Tenerife\, Canarias. Es una buena opción para quienes buscan una jornada activa y bien organizada\, con un recorrido de 110 km. Ideal tanto para participantes habituales como para quienes quieren sumar una nueva experiencia al calendario.
LOCATION:Candelaria\, Tenerife\, Canarias
URL:https://sportplan.vercel.app/en/events/tenerife-bluetrail-110k-candelaria-2026-05-31-110k
END:VEVENT
END:VCALENDAR
