BEGIN:VCALENDAR
VERSION:2.0
PRODID:-//SportPlan//Event Calendar//EN
CALSCALE:GREGORIAN
BEGIN:VEVENT
UID:ae19baba-0dfa-4edc-a3bf-f5f3b3f2a4ec@sportplan.local
DTSTAMP:20260420T210714Z
DTSTART;VALUE=DATE:20270226
DTEND;VALUE=DATE:20270227
SUMMARY:Tel Aviv Marathon (TLV Marathon) 2027
DESCRIPTION:Confirmed via web_fetch (HTTP 200)\; 2027 edition registration open\; distances: Full Marathon\, Half Marathon 21.1km\, 10km\, 5km\, Family Race 1.7km\, Mini Marathon (children)\; stable recurring official event URL\; note: 2026 edition already completed before this run
LOCATION:Tel Aviv-Yafo\, Israel
URL:https://sportplan.vercel.app/en/events/tel-aviv-marathon-tlv-marathon-2027-2027-02-26
END:VEVENT
END:VCALENDAR
