BEGIN:VCALENDAR
VERSION:2.0
PRODID:-//SportPlan//Event Calendar//EN
CALSCALE:GREGORIAN
BEGIN:VEVENT
UID:3634a47b-81a0-49d0-86ae-6634735c01c0@sportplan.local
DTSTAMP:20260420T210811Z
DTSTART;VALUE=DATE:20270226
DTEND;VALUE=DATE:20270227
SUMMARY:Tel Aviv Marathon 2027 – Registration (English)
DESCRIPTION:Official English registration page for TLV Marathon 2027\; confirmed live 200 OK with distance/pricing details (Marathon 240 NIS\, Half 180 NIS\, 10K 130 NIS\, 5K 110 NIS\, Kids Mini 40 NIS)\; early registration until 30 Nov 2026\; Israel TIER1 underrepresented (2 existing entries)\; distinct URL from main site
LOCATION:Tel Aviv\, Israel
URL:https://sportplan.vercel.app/en/events/tel-aviv-marathon-2027-registration-english-2027-02-26
END:VEVENT
END:VCALENDAR
