BEGIN:VCALENDAR
VERSION:2.0
PRODID:-//SportPlan//Event Calendar//EN
CALSCALE:GREGORIAN
BEGIN:VEVENT
UID:06f73aa2-da03-4358-aad3-18b35071ba3f@sportplan.local
DTSTAMP:20260420T210530Z
DTSTART;VALUE=DATE:20270226
DTEND;VALUE=DATE:20270227
SUMMARY:Tel Aviv Marathon 2027
DESCRIPTION:official Tel Aviv Marathon site\; Feb 26 2027 edition confirmed via web_fetch\; Israel TIER1 underrepresented (1 existing entry)
LOCATION:Tel Aviv\, Israel
URL:https://sportplan.vercel.app/en/events/tel-aviv-marathon-2027-2027-02-26
END:VEVENT
END:VCALENDAR
