BEGIN:VCALENDAR
VERSION:2.0
PRODID:-//SportPlan//Event Calendar//EN
CALSCALE:GREGORIAN
BEGIN:VEVENT
UID:bcaef77f-8382-4d6b-9fc6-f2244bab2c3f@sportplan.local
DTSTAMP:20260420T205940Z
DTSTART;VALUE=DATE:20270226
DTEND;VALUE=DATE:20270227
SUMMARY:Tel Aviv Marathon
DESCRIPTION:Official Tel Aviv Marathon site fetched directly\; queued as official-source candidate URL.
LOCATION:Tel Aviv\, Israel
URL:https://sportplan.vercel.app/en/events/tel-aviv-marathon-2027-02-26
END:VEVENT
END:VCALENDAR
