BEGIN:VCALENDAR
VERSION:2.0
PRODID:-//SportPlan//Event Calendar//EN
CALSCALE:GREGORIAN
BEGIN:VEVENT
UID:bd969c38-3673-4bbc-be79-0a3fd705ec62@sportplan.local
DTSTAMP:20260420T191849Z
DTSTART;VALUE=DATE:20260426
DTEND;VALUE=DATE:20260427
SUMMARY:TCS World 10K Bengaluru — World 10K
DESCRIPTION:Official race-category information page validated via web_fetch.
LOCATION:Bengaluru\, India
URL:https://sportplan.vercel.app/en/events/tcs-world-10k-bengaluru-world-10k-2026-04-26
END:VEVENT
END:VCALENDAR
