BEGIN:VCALENDAR
VERSION:2.0
PRODID:-//SportPlan//Event Calendar//EN
CALSCALE:GREGORIAN
BEGIN:VEVENT
UID:f5cb7ac3-3aac-4ed1-a83e-690d2f5746f6@sportplan.local
DTSTAMP:20260420T230007Z
DTSTART;VALUE=DATE:20260830
DTEND;VALUE=DATE:20260831
SUMMARY:TCS Sydney Marathon 2026
DESCRIPTION:Abbott World Marathon Major\; marathon + 10K + 5K\; discovered via runningcalendar.com.au — AU had only 3 queue entries before this run and was selected for worldwide coverage expansion
LOCATION:North Sydney to Sydney Opera House\, NSW\, Australia
URL:https://sportplan.vercel.app/en/events/tcs-sydney-marathon-2026-2026-08-30
END:VEVENT
END:VCALENDAR
