BEGIN:VCALENDAR
VERSION:2.0
PRODID:-//SportPlan//Event Calendar//EN
CALSCALE:GREGORIAN
BEGIN:VEVENT
UID:55bf7c56-80df-4fa4-8a45-ce240a0a5800@sportplan.local
DTSTAMP:20260420T191800Z
DTSTART;VALUE=DATE:20260630
DTEND;VALUE=DATE:20260701
SUMMARY:Tarugo Trail Costur
DESCRIPTION:Tarugo Trail Costur se celebrará el 2026-06-30 en Costur\, Castellón\, Valencia. Es una buena opción para quienes buscan un reto bien organizado sobre una distancia de 8 km. Ideal tanto para participantes que quieren competir como para quienes prefieren disfrutar del ambiente del evento.
LOCATION:Costur\, Castellón\, Valencia
URL:https://sportplan.vercel.app/en/events/tarugo-trail-costur-costur-2026-06-30-8k
END:VEVENT
END:VCALENDAR
