BEGIN:VCALENDAR
VERSION:2.0
PRODID:-//SportPlan//Event Calendar//EN
CALSCALE:GREGORIAN
BEGIN:VEVENT
UID:5fea6af1-4cc0-4a4a-9466-e6b6436b9b85@sportplan.local
DTSTAMP:20260420T191931Z
DTSTART;VALUE=DATE:20260604
DTEND;VALUE=DATE:20260605
SUMMARY:Tartu neljapäevak
DESCRIPTION:Tartu neljapäevak is an official amateur weekly orienteering event in Elva-Illipalu\, Estonia on 4 June 2026. The official Estonian Orienteering Federation event page confirms the date\, Elva-Illipalu venue\, organizer Ilves\, and the official OK Ilves information link. The official OK Ilves 2026 päevakud calendar also lists 4 June 2026 as the Illipalu round in its public Thursday series.
LOCATION:Elva-Illipalu\, Nõo vald\, Estonia
URL:https://sportplan.vercel.app/en/events/tartu-neljapaevak-elva-illipalu-2026-06-04
END:VEVENT
END:VCALENDAR
