BEGIN:VCALENDAR
VERSION:2.0
PRODID:-//SportPlan//Event Calendar//EN
CALSCALE:GREGORIAN
BEGIN:VEVENT
UID:72a801ff-2387-4866-b950-e129538e435f@sportplan.local
DTSTAMP:20260420T193958Z
DTSTART;VALUE=DATE:20261107
DTEND;VALUE=DATE:20261108
SUMMARY:Taroko Gorge Marathon 2026
DESCRIPTION:Taroko Gorge Marathon 2026 will take place on 2026-11-07 at Hualien\, Hualien. With a distance of around 42.2 km\, it offers an appealing option for participants looking for a fresh challenge as well as those who want to enjoy the event atmosphere. A great opportunity to add a new goal to the calendar and enjoy an active day in a memorable setting.
LOCATION:Hualien\, Hualien
URL:https://sportplan.vercel.app/en/events/taroko-gorge-marathon-2026-hualien-2026-11-07
END:VEVENT
END:VCALENDAR
