BEGIN:VCALENDAR
VERSION:2.0
PRODID:-//SportPlan//Event Calendar//EN
CALSCALE:GREGORIAN
BEGIN:VEVENT
UID:cdb50a08-655c-4c91-85f7-d47c343f8057@sportplan.local
DTSTAMP:20260420T191807Z
DTSTART;VALUE=DATE:20260523
DTEND;VALUE=DATE:20260525
SUMMARY:Tamarack Ottawa Race Weekend
DESCRIPTION:
LOCATION:Ottawa
URL:https://sportplan.vercel.app/en/events/tamarack-ottawa-race-weekend-ottawa-2026-05-23
END:VEVENT
END:VCALENDAR
