BEGIN:VCALENDAR
VERSION:2.0
PRODID:-//SportPlan//Event Calendar//EN
CALSCALE:GREGORIAN
BEGIN:VEVENT
UID:549bec18-2520-49c6-964f-9abe4beb0caa@sportplan.local
DTSTAMP:20260420T195012Z
DTSTART;VALUE=DATE:20261220
DTEND;VALUE=DATE:20261221
SUMMARY:Taipei Marathon 2026
DESCRIPTION:The official Taipei Marathon site is the participant-facing source for the 2026 marathon in Taipei on 20 December 2026\, covering race information\, registration updates\, and event news for amateur runners.
LOCATION:Taipei\, Taipei
URL:https://sportplan.vercel.app/en/events/taipei-marathon-2026-taipei-2026-12-20
END:VEVENT
END:VCALENDAR
