BEGIN:VCALENDAR
VERSION:2.0
PRODID:-//SportPlan//Event Calendar//EN
CALSCALE:GREGORIAN
BEGIN:VEVENT
UID:1c657b1a-43cc-470a-970b-de7e374db4e2@sportplan.local
DTSTAMP:20260420T190946Z
DTSTART;VALUE=DATE:20260830
DTEND;VALUE=DATE:20260831
SUMMARY:Sydney Marathon
DESCRIPTION:Discovered via RunCalendar Australia marathons listing.
LOCATION:Milsons Point\, NSW\, Australia
URL:https://sportplan.vercel.app/en/events/sydney-marathon-2026-08-30
END:VEVENT
END:VCALENDAR
