BEGIN:VCALENDAR
VERSION:2.0
PRODID:-//SportPlan//Event Calendar//EN
CALSCALE:GREGORIAN
BEGIN:VEVENT
UID:16b9e01d-a466-4bd8-b388-758e1d91a435@sportplan.local
DTSTAMP:20260420T234856Z
DTSTART;VALUE=DATE:20260831
DTEND;VALUE=DATE:20260901
SUMMARY:Swisspeaks 380
DESCRIPTION:Swisspeaks 380 findet am 31. August 2026 in Oberwald\, Valais statt. Die Veranstaltung ist eine starke Wahl für Teilnehmende und Begleitpersonen\, die ein aktives und gut organisiertes Event suchen. Die ausgeschriebene Distanz beträgt 370.6 km.
LOCATION:Oberwald\, Valais
URL:https://sportplan.vercel.app/en/events/swisspeaks-380-oberwald-2026-08-31-370-55k
END:VEVENT
END:VCALENDAR
