BEGIN:VCALENDAR
VERSION:2.0
PRODID:-//SportPlan//Event Calendar//EN
CALSCALE:GREGORIAN
BEGIN:VEVENT
UID:745ba792-c4bd-47a7-830a-c1e19581b845@sportplan.local
DTSTAMP:20260421T010131Z
DTSTART;VALUE=DATE:20261025
DTEND;VALUE=DATE:20261026
SUMMARY:SwissCityMarathon Lucerne — Registration
DESCRIPTION:Official event registration page validated via web_fetch.
LOCATION:Lucerne\, Switzerland
URL:https://sportplan.vercel.app/en/events/swisscitymarathon-lucerne-registration-2026-10-25
END:VEVENT
END:VCALENDAR
