BEGIN:VCALENDAR
VERSION:2.0
PRODID:-//SportPlan//Event Calendar//EN
CALSCALE:GREGORIAN
BEGIN:VEVENT
UID:8c9a6dd8-eaca-4502-a11f-7df08def9b7e@sportplan.local
DTSTAMP:20260420T221749Z
DTSTART;VALUE=DATE:20260613
DTEND;VALUE=DATE:20260614
SUMMARY:Swiss Trailrun Pilatus 2026
DESCRIPTION:Official Swiss Trailrun Pilatus site (pilatusrun.ch redirects here)\; Jun 13\, 2026\; trail/vertical/fun\; 1370m altitude\; affiliated with RunLucerne / SwissCityMarathon organizer\; confirmed HTTP 200\; CH trail variety — Beast Special 2026-03-30
LOCATION:Pilatus\, Lucerne\, Switzerland
URL:https://sportplan.vercel.app/en/events/swiss-trailrun-pilatus-2026-2026-06-13
END:VEVENT
END:VCALENDAR
