BEGIN:VCALENDAR
VERSION:2.0
PRODID:-//SportPlan//Event Calendar//EN
CALSCALE:GREGORIAN
BEGIN:VEVENT
UID:e1c75093-f2a1-4d1c-9a9c-9432174d7426@sportplan.local
DTSTAMP:20260420T175544Z
DTSTART;VALUE=DATE:20260927
DTEND;VALUE=DATE:20260928
SUMMARY:Swindon Half-Marathon
DESCRIPTION:
LOCATION:Swindon
URL:https://sportplan.vercel.app/en/events/swindon-half-marathon-swindon-2026-09-27
END:VEVENT
END:VCALENDAR
