BEGIN:VCALENDAR
VERSION:2.0
PRODID:-//SportPlan//Event Calendar//EN
CALSCALE:GREGORIAN
BEGIN:VEVENT
UID:7fa54c77-5ccf-451f-bbef-fe21aca62135@sportplan.local
DTSTAMP:20260420T221901Z
DTSTART;VALUE=DATE:20260802
DTEND;VALUE=DATE:20260803
SUMMARY:Sunshine Coast Marathon Festival
DESCRIPTION:World's Marathons listing\; coastal road marathon festival.
LOCATION:Alexandra Headland\, Queensland\, Australia
URL:https://sportplan.vercel.app/en/events/sunshine-coast-marathon-festival-2026-08-02
END:VEVENT
END:VCALENDAR
