BEGIN:VCALENDAR
VERSION:2.0
PRODID:-//SportPlan//Event Calendar//EN
CALSCALE:GREGORIAN
BEGIN:VEVENT
UID:9153ce47-343e-4570-bba3-65f3a4c3d56b@sportplan.local
DTSTAMP:20260420T221350Z
DTSTART;VALUE=DATE:20270206
DTEND;VALUE=DATE:20270207
SUMMARY:Sun Run
DESCRIPTION:Discovered via web_fetch on the official event site\; page includes the next save-the-date.
LOCATION:Sydney\, Australia
URL:https://sportplan.vercel.app/en/events/sun-run-2027-02-06
END:VEVENT
END:VCALENDAR
