BEGIN:VCALENDAR
VERSION:2.0
PRODID:-//SportPlan//Event Calendar//EN
CALSCALE:GREGORIAN
BEGIN:VEVENT
UID:4e57f163-d492-45f8-9524-72009417e628@sportplan.local
DTSTAMP:20260420T192510Z
DTSTART;VALUE=DATE:20261101
DTEND;VALUE=DATE:20261102
SUMMARY:Sun Moon Lake Marathon
DESCRIPTION:Sun Moon Lake Marathon 2026 is the official Sun Moon Lake Marathon event in Nantou\, Taiwan on 1 November 2026. The official event website serves as the participant-facing source for race information\, registration updates\, and event news for this open amateur road-running event at Sun Moon Lake.
LOCATION:Nantou County\, Taiwan
URL:https://sportplan.vercel.app/en/events/sun-moon-lake-marathon-2026-11-01
END:VEVENT
END:VCALENDAR
