BEGIN:VCALENDAR
VERSION:2.0
PRODID:-//SportPlan//Event Calendar//EN
CALSCALE:GREGORIAN
BEGIN:VEVENT
UID:cb70c346-b4a9-4293-92ce-4910382c8380@sportplan.local
DTSTAMP:20260420T225850Z
DTSTART;VALUE=DATE:20260523
DTEND;VALUE=DATE:20260524
SUMMARY:Suffer on Centennial
DESCRIPTION:
LOCATION:West Hawk Lake
URL:https://sportplan.vercel.app/en/events/suffer-on-centennial-west-hawk-lake-2026-05-23
END:VEVENT
END:VCALENDAR
