BEGIN:VCALENDAR
VERSION:2.0
PRODID:-//SportPlan//Event Calendar//EN
CALSCALE:GREGORIAN
BEGIN:VEVENT
UID:83259913-e66a-4c75-94b5-c9e927ebb98a@sportplan.local
DTSTAMP:20260420T181006Z
DTSTART;VALUE=DATE:20260601
DTEND;VALUE=DATE:20260602
SUMMARY:Subida al Peloto - 13K
DESCRIPTION:Subida al Peloto - 13K se celebra el 1 de junio de 2026 en Casas Bajas\, València\, Comunidad Valenciana. Es una excelente opción para quienes quieren disfrutar de un evento bien organizado en este destino. La prueba recorre 13 km. Se espera un ambiente animado y una jornada memorable tanto para corredores habituales como para debutantes.
LOCATION:Casas Bajas\, València\, Comunidad Valenciana
URL:https://sportplan.vercel.app/en/events/subida-al-peloto-13k-casas-bajas-2026-06-01-13k
END:VEVENT
END:VCALENDAR
