BEGIN:VCALENDAR
VERSION:2.0
PRODID:-//SportPlan//Event Calendar//EN
CALSCALE:GREGORIAN
BEGIN:VEVENT
UID:8ec78de3-602d-49bd-a933-c1b6759fe131@sportplan.local
DTSTAMP:20260420T191849Z
DTSTART;VALUE=DATE:20260926
DTEND;VALUE=DATE:20260927
SUMMARY:Strade Bianche Achterhoek
DESCRIPTION:Strade Bianche Achterhoek vindt plaats op 26 september 2026 in Lochem en biedt een sportief evenement met een sterke sfeer en een verzorgde organisatie. Dit is een mooie kans om van de omgeving te genieten\, samen met andere deelnemers op pad te zijn en de energie van start tot finish mee te maken.
LOCATION:Lochem
URL:https://sportplan.vercel.app/en/events/strade-bianche-achterhoek-lochem-2026-09-26
END:VEVENT
END:VCALENDAR
