BEGIN:VCALENDAR
VERSION:2.0
PRODID:-//SportPlan//Event Calendar//EN
CALSCALE:GREGORIAN
BEGIN:VEVENT
UID:08ae6dc8-95f9-4f1f-8677-89bda7aea64a@sportplan.local
DTSTAMP:20260420T214000Z
DTSTART;VALUE=DATE:20261025
DTEND;VALUE=DATE:20261026
SUMMARY:Standard Chartered Nairobi Marathon - Kenya Airways Promo
DESCRIPTION:Verified via direct fetch\; sponsor/promo page confirms Nairobi Marathon date and travel packages\; supplementary stable URL cross-referencing official race
LOCATION:Nairobi\, Kenya
URL:https://sportplan.vercel.app/en/events/standard-chartered-nairobi-marathon-kenya-airways-promo-2026-10-25
END:VEVENT
END:VCALENDAR
