BEGIN:VCALENDAR
VERSION:2.0
PRODID:-//SportPlan//Event Calendar//EN
CALSCALE:GREGORIAN
BEGIN:VEVENT
UID:c20debf1-6c80-4db3-8836-e9a2d5c1d7ff@sportplan.local
DTSTAMP:20260420T210714Z
DTSTART;VALUE=DATE:20261025
DTEND;VALUE=DATE:20261026
SUMMARY:Standard Chartered Nairobi Marathon 2026 — Race Information
DESCRIPTION:discovered via navigation of official nairobimarathon.com site\; sub-page with runner guide\, prize money\, and sustainability report\; stable URL per site menu structure
LOCATION:Nairobi\, Kenya
URL:https://sportplan.vercel.app/en/events/standard-chartered-nairobi-marathon-2026-race-information-2026-10-25
END:VEVENT
END:VCALENDAR
