BEGIN:VCALENDAR
VERSION:2.0
PRODID:-//SportPlan//Event Calendar//EN
CALSCALE:GREGORIAN
BEGIN:VEVENT
UID:8df6632e-aab0-498c-b29d-815ca3492a31@sportplan.local
DTSTAMP:20260420T210810Z
DTSTART;VALUE=DATE:20261025
DTEND;VALUE=DATE:20261026
SUMMARY:Standard Chartered Nairobi Marathon 2026 — Prize Money
DESCRIPTION:discovered via site menu navigation\; race awards prize money for 42km\, 21km\, 10km\, 21km Wheelchair\, and Corporate Challenge\; stable official URL
LOCATION:Nairobi\, Kenya
URL:https://sportplan.vercel.app/en/events/standard-chartered-nairobi-marathon-2026-prize-money-2026-10-25
END:VEVENT
END:VCALENDAR
