BEGIN:VCALENDAR
VERSION:2.0
PRODID:-//SportPlan//Event Calendar//EN
CALSCALE:GREGORIAN
BEGIN:VEVENT
UID:7ea29f91-80da-4f7c-ad81-2e728d2018c9@sportplan.local
DTSTAMP:20260421T132000Z
DTSTART;VALUE=DATE:20261025
DTEND;VALUE=DATE:20261026
SUMMARY:Standard Chartered Nairobi Marathon 2026
DESCRIPTION:discovered via direct fetch of official event website\; confirmed 25 Oct 2026\; distances 42km marathon\, 21km half marathon\, 10km\, 5km\; Kenya had 0 queue entries before this run — selected to expand Africa coverage
LOCATION:Nairobi\, Kenya
URL:https://sportplan.vercel.app/en/events/standard-chartered-nairobi-marathon-2026-2026-10-25
END:VEVENT
END:VCALENDAR
