BEGIN:VCALENDAR
VERSION:2.0
PRODID:-//SportPlan//Event Calendar//EN
CALSCALE:GREGORIAN
BEGIN:VEVENT
UID:66c97fdd-e2d9-4f91-a351-02966d9c0879@sportplan.local
DTSTAMP:20260420T211551Z
DTSTART;VALUE=DATE:20260621
DTEND;VALUE=DATE:20260622
SUMMARY:Sportful Dolomiti Race 2026
DESCRIPTION:Sportful Dolomiti Race is a major amateur granfondo road-cycling event based in Feltre. The official event site describes it as one of Europe's hardest granfondos\, with both long and medium routes starting and finishing in Feltre.
LOCATION:Feltre\, Belluno\, Veneto\, Italy
URL:https://sportplan.vercel.app/en/events/sportful-dolomiti-race-2026-feltre-2026-06-21
END:VEVENT
END:VCALENDAR
